BEGIN:VCALENDAR
VERSION:2.0
PRODID:-//Muskegon Brewing Company - ECPv6.15.20//NONSGML v1.0//EN
CALSCALE:GREGORIAN
METHOD:PUBLISH
X-ORIGINAL-URL:https://muskegonbrewery.com
X-WR-CALDESC:Events for Muskegon Brewing Company
REFRESH-INTERVAL;VALUE=DURATION:PT1H
X-Robots-Tag:noindex
X-PUBLISHED-TTL:PT1H
BEGIN:VTIMEZONE
TZID:UTC
BEGIN:STANDARD
TZOFFSETFROM:+0000
TZOFFSETTO:+0000
TZNAME:UTC
DTSTART:20250101T000000
END:STANDARD
END:VTIMEZONE
BEGIN:VEVENT
DTSTART;TZID=UTC:20260610T180000
DTEND;TZID=UTC:20260610T210000
DTSTAMP:20260422T100042
CREATED:20260404T165618Z
LAST-MODIFIED:20260404T165618Z
UID:1066-1781114400-1781125200@muskegonbrewery.com
SUMMARY:Live Music At MBC: Two Dudes in Flip Flops
DESCRIPTION:
URL:https://muskegonbrewery.com/event/live-music-at-mbc-two-dudes-in-flip-flops/
END:VEVENT
END:VCALENDAR